BEGIN:VCALENDAR
VERSION:2.0
PRODID:-//FreeFlight Systems - ECPv6.15.20//NONSGML v1.0//EN
CALSCALE:GREGORIAN
METHOD:PUBLISH
X-WR-CALNAME:FreeFlight Systems
X-ORIGINAL-URL:https://freeflightsystems.com
X-WR-CALDESC:Events for FreeFlight Systems
REFRESH-INTERVAL;VALUE=DURATION:PT1H
X-Robots-Tag:noindex
X-PUBLISHED-TTL:PT1H
BEGIN:VTIMEZONE
TZID:UTC
BEGIN:STANDARD
TZOFFSETFROM:+0000
TZOFFSETTO:+0000
TZNAME:UTC
DTSTART:20240101T000000
END:STANDARD
END:VTIMEZONE
BEGIN:VEVENT
DTSTART;VALUE=DATE:20251014
DTEND;VALUE=DATE:20251017
DTSTAMP:20260419T170711
CREATED:20250415T055251Z
LAST-MODIFIED:20250823T041704Z
UID:3028-1760400000-1760659199@freeflightsystems.com
SUMMARY:NBAA - Booth 3169
DESCRIPTION:Advanced Avionics for Business Aircraft\, Rotorcraft and UAM—Without the Complexity \nKey Offerings: \n\nRA-6500/RA-5500 Radar Altimeters: Interference-resistant\, DO-160G qualified\, and ideal for legacy and next-gen aircraft.\nDual-Band ADS-B: Global situational awareness with 978 MHz and 1090 MHz support.\n200J GNSS/SBAS Receiver: Compact\, high-integrity GPS solution with SBAS support for rotorcraft\, UAMs\, and fixed-wing platforms.\n\nValue-drivers: \n\nADS-B & GNSS/SBAS: Compact\, high-performance systems for business jets and turboprops.\nRadar Altimeters: Designed for seamless integration and long-term reliability.\nRetrofit Focus: Solutions engineered for quick installs and minimal aircraft downtime.
URL:https://freeflightsystems.com/event/nbaa-booth-3169/
LOCATION:GA
CATEGORIES:Trade Show - Attend
ATTACH;FMTTYPE=image/png:https://freeflightsystems.com/wp-content/uploads/2025/04/NBAA-2025-Logo.png
END:VEVENT
END:VCALENDAR