BEGIN:VCALENDAR
VERSION:2.0
PRODID:-//FreeFlight Systems - ECPv6.15.20//NONSGML v1.0//EN
CALSCALE:GREGORIAN
METHOD:PUBLISH
X-ORIGINAL-URL:https://freeflightsystems.com
X-WR-CALDESC:Events for FreeFlight Systems
REFRESH-INTERVAL;VALUE=DURATION:PT1H
X-Robots-Tag:noindex
X-PUBLISHED-TTL:PT1H
BEGIN:VTIMEZONE
TZID:UTC
BEGIN:STANDARD
TZOFFSETFROM:+0000
TZOFFSETTO:+0000
TZNAME:UTC
DTSTART:20240101T000000
END:STANDARD
END:VTIMEZONE
BEGIN:VEVENT
DTSTART;VALUE=DATE:20250916
DTEND;VALUE=DATE:20250919
DTSTAMP:20260421T214234
CREATED:20250415T054114Z
LAST-MODIFIED:20250823T042210Z
UID:3024-1757980800-1758239999@freeflightsystems.com
SUMMARY:MRO Asia-Pacific - Booth 841
DESCRIPTION:Simplify Retrofits and Reduce Downtime with Proven Solutions \nKey Offerings: \n\nJetCall SelCal Decoder: Lightweight\, plug-and-play solution for selective calling in retrofit and forward-fit commercial and military aircraft.\nRA-6500/RA-5500 Radar Altimeters: Interference-resistant\, DO-160G qualified\, and ideal for legacy and next-gen aircraft. Easy-to-install\, ruggedized systems with proven performance in high-interference environments.\nDual-Band ADS-B: Global situational awareness with 978 MHz and 1090 MHz support.\n200J GNSS/SBAS Receiver: Compact\, high-integrity GPS solution with Spoofing Recovery and KASS South Pan SBAS support for rotorcraft and fixed-wing platforms.\nDual-Band ADS-B: Global situational awareness with 978 MHz and 1090 MHz support. Certified\, global solution for compliance and flight efficiency.
URL:https://freeflightsystems.com/event/mro-asia-pacific/
CATEGORIES:Trade Show - Attend
ATTACH;FMTTYPE=image/jpeg:https://freeflightsystems.com/wp-content/uploads/2025/04/MRO-Asia.jpg
END:VEVENT
END:VCALENDAR